BEGIN:VCALENDAR
VERSION:2.0
PRODID:-//Discovery World - ECPv6.15.20//NONSGML v1.0//EN
CALSCALE:GREGORIAN
METHOD:PUBLISH
X-WR-CALNAME:Discovery World
X-ORIGINAL-URL:https://discoveryworld.org
X-WR-CALDESC:Events for Discovery World
REFRESH-INTERVAL;VALUE=DURATION:PT1H
X-Robots-Tag:noindex
X-PUBLISHED-TTL:PT1H
BEGIN:VTIMEZONE
TZID:America/Chicago
BEGIN:DAYLIGHT
TZOFFSETFROM:-0600
TZOFFSETTO:-0500
TZNAME:CDT
DTSTART:20230312T080000
END:DAYLIGHT
BEGIN:STANDARD
TZOFFSETFROM:-0500
TZOFFSETTO:-0600
TZNAME:CST
DTSTART:20231105T070000
END:STANDARD
BEGIN:DAYLIGHT
TZOFFSETFROM:-0600
TZOFFSETTO:-0500
TZNAME:CDT
DTSTART:20240310T080000
END:DAYLIGHT
BEGIN:STANDARD
TZOFFSETFROM:-0500
TZOFFSETTO:-0600
TZNAME:CST
DTSTART:20241103T070000
END:STANDARD
BEGIN:DAYLIGHT
TZOFFSETFROM:-0600
TZOFFSETTO:-0500
TZNAME:CDT
DTSTART:20250309T080000
END:DAYLIGHT
BEGIN:STANDARD
TZOFFSETFROM:-0500
TZOFFSETTO:-0600
TZNAME:CST
DTSTART:20251102T070000
END:STANDARD
END:VTIMEZONE
BEGIN:VTIMEZONE
TZID:America/Chicago
BEGIN:DAYLIGHT
TZOFFSETFROM:-0600
TZOFFSETTO:-0500
TZNAME:CDT
DTSTART:20230312T080000
END:DAYLIGHT
BEGIN:STANDARD
TZOFFSETFROM:-0500
TZOFFSETTO:-0600
TZNAME:CST
DTSTART:20231105T070000
END:STANDARD
BEGIN:DAYLIGHT
TZOFFSETFROM:-0600
TZOFFSETTO:-0500
TZNAME:CDT
DTSTART:20240310T080000
END:DAYLIGHT
BEGIN:STANDARD
TZOFFSETFROM:-0500
TZOFFSETTO:-0600
TZNAME:CST
DTSTART:20241103T070000
END:STANDARD
BEGIN:DAYLIGHT
TZOFFSETFROM:-0600
TZOFFSETTO:-0500
TZNAME:CDT
DTSTART:20250309T080000
END:DAYLIGHT
BEGIN:STANDARD
TZOFFSETFROM:-0500
TZOFFSETTO:-0600
TZNAME:CST
DTSTART:20251102T070000
END:STANDARD
END:VTIMEZONE
BEGIN:VEVENT
DTSTART;TZID=America/Chicago:20240208T100000
DTEND;TZID=America/Chicago:20240208T140000
DTSTAMP:20260419T111608
CREATED:20240124T192743Z
LAST-MODIFIED:20240129T190900Z
UID:16217-1707386400-1707400800@discoveryworld.org
SUMMARY:Young Innovators Day
DESCRIPTION:Friday\, February 8\, 2024\n10:00 am – 2:00 pm \nJoin the excitement at Discovery World as we celebrate Young Innovators Day! 🌟 Bring your curiosity and find hands-on activities that will inspire the next generation of thinkers and doers on our Promenade.
URL:https://discoveryworld.org/calendar-of-events/young-innovators-day/
END:VEVENT
BEGIN:VEVENT
DTSTART;TZID=America/Chicago:20240210T100000
DTEND;TZID=America/Chicago:20240210T103000
DTSTAMP:20260419T111608
CREATED:20240125T162351Z
LAST-MODIFIED:20241030T182132Z
UID:16251-1707559200-1707561000@discoveryworld.org
SUMMARY:Animal Encounters
DESCRIPTION:Select Saturdays\n10:00 am – 10:30 am \n\nReptiles and snakes are some of the most fascinating creatures on the planet. Join our Aquarists for an adventure in our Great Lakes Future exhibit as you meet the animal ambassadors that call Discovery World home.\n\nExplore our exhibit here: Great Lakes Future 
URL:https://discoveryworld.org/calendar-of-events/animal-encounters-8/2024-02-10/
END:VEVENT
BEGIN:VEVENT
DTSTART;TZID=America/Chicago:20240224T100000
DTEND;TZID=America/Chicago:20240224T133000
DTSTAMP:20260419T111608
CREATED:20240112T164022Z
LAST-MODIFIED:20240221T195755Z
UID:16206-1708768800-1708781400@discoveryworld.org
SUMMARY:Storytime with Wizard Egnitor
DESCRIPTION:Saturday\, February 24\, 2024\n10:00 am – 1:30 pm \nEmbark on a whimsical journey with Wizard Egnitor and his dragon companion\, Warmheart! Join us for an adventure of captivating tales that will transport you to a realm of wonder and magic. \nStorytimes at 11:00 am\, 12:00 pm\, and 1:00 pm in the Todd Wehr Theater. \nThis magical event is perfect for families and anyone who believes in the power of imagination! \n*Included with general admission
URL:https://discoveryworld.org/calendar-of-events/storytime/
END:VEVENT
BEGIN:VEVENT
DTSTART;TZID=America/Chicago:20240317T110000
DTEND;TZID=America/Chicago:20240317T113000
DTSTAMP:20260419T111608
CREATED:20240208T155502Z
LAST-MODIFIED:20240212T201243Z
UID:16280-1710673200-1710675000@discoveryworld.org
SUMMARY:Mermaid Echo
DESCRIPTION:Monthly – Select Sundays\n11:00 am – 11:30 am \nMermaid Echo is back at Discovery World! Mermaid Echo connects kids with aquatic ecology in a creative way. Enjoy a spectacular performance! Watch Echo swim with underwater friends while you learn about freshwater and the creatures that call the water home. \nShows at 11:00 am – 11:30 am and 12:30 pm – 1:00 pm \nImportant Notes: \n\nIncluded with General Admission\, but please note that space per performance is extremely limited\, and all of Mermaid Echo’s performances are first-come\, first-served.\n\nLearn more about Echo: HERE
URL:https://discoveryworld.org/calendar-of-events/mermaid-echo/
END:VEVENT
BEGIN:VEVENT
DTSTART;TZID=America/Chicago:20240317T123000
DTEND;TZID=America/Chicago:20240317T130000
DTSTAMP:20260419T111608
CREATED:20240208T155925Z
LAST-MODIFIED:20240304T213343Z
UID:16287-1710678600-1710680400@discoveryworld.org
SUMMARY:Mermaid Echo
DESCRIPTION:Monthly – Select Sundays\n12:30 pm – 1:00 pm \nMermaid Echo is back at Discovery World! Mermaid Echo connects kids with aquatic ecology in a creative way. Enjoy a spectacular performance! Watch Echo swim with underwater friends while you learn about freshwater and the creatures that call the water home. \nShows at 11:00 am – 11:30 am and 12:30 pm – 1:00 pm \nImportant Notes: \n\nIncluded with General Admission\, but please note that space per performance is extremely limited\, and all of Mermaid Echo’s performances are first-come\, first-served.\n\nLearn more about Echo: HERE
URL:https://discoveryworld.org/calendar-of-events/mermaid-echo-2/2024-03-17/
END:VEVENT
BEGIN:VEVENT
DTSTART;VALUE=DATE:20240331
DTEND;VALUE=DATE:20240401
DTSTAMP:20260419T111608
CREATED:20240105T213141Z
LAST-MODIFIED:20240329T175415Z
UID:16192-1711843200-1711929599@discoveryworld.org
SUMMARY:CLOSED - Easter
DESCRIPTION:Discovery World is CLOSED on Sunday\, 3/31/2024
URL:https://discoveryworld.org/calendar-of-events/closed-easter/
ATTACH;FMTTYPE=image/jpeg:https://discoveryworld.org/wp-content/uploads/2023/03/DW_Closed.jpg
END:VEVENT
BEGIN:VEVENT
DTSTART;TZID=America/Chicago:20240420T100000
DTEND;TZID=America/Chicago:20240420T103000
DTSTAMP:20260419T111608
CREATED:20240125T162351Z
LAST-MODIFIED:20240318T131904Z
UID:16321-1713607200-1713609000@discoveryworld.org
SUMMARY:Animal Encounters
DESCRIPTION:Saturday\, April 20\, 2024\n10:00 am – 10:30 am  \nReptiles and snakes are some of the most fascinating creatures on the planet. Join our Aquarists for an adventure in our Great Lakes Future exhibit as you meet the animal ambassadors that call Discovery World home.  \nExplore our exhibit here: Great Lakes Future 
URL:https://discoveryworld.org/calendar-of-events/animal-encounters-8-2024-04-13/
END:VEVENT
BEGIN:VEVENT
DTSTART;TZID=America/Chicago:20240421T110000
DTEND;TZID=America/Chicago:20240421T113000
DTSTAMP:20260419T111608
CREATED:20240208T155502Z
LAST-MODIFIED:20240410T173057Z
UID:16300-1713697200-1713699000@discoveryworld.org
SUMMARY:Mermaid Echo
DESCRIPTION:Monthly – Select Sundays\n11:00 am – 11:30 am \nMermaid Echo is back at Discovery World! Mermaid Echo connects kids with aquatic ecology in a creative way. Enjoy a spectacular performance! Watch Echo swim with underwater friends while you learn about freshwater and the creatures that call the water home. \nShows at 11:00 am – 11:30 am and 12:30 pm – 1:00 pm \nImportant Notes: \n\nIncluded with General Admission\, but please note that space per performance is extremely limited\, and all of Mermaid Echo’s performances are first-come\, first-served.\n\nLearn more about Echo: HERE
URL:https://discoveryworld.org/calendar-of-events/mermaid-echo-2024-04-21/
END:VEVENT
BEGIN:VEVENT
DTSTART;TZID=America/Chicago:20240421T123000
DTEND;TZID=America/Chicago:20240421T130000
DTSTAMP:20260419T111608
CREATED:20240208T155925Z
LAST-MODIFIED:20240415T150255Z
UID:16301-1713702600-1713704400@discoveryworld.org
SUMMARY:Mermaid Echo
DESCRIPTION:Monthly – Select Sundays\n12:30 pm – 1:00 pm \nMermaid Echo is back at Discovery World! Mermaid Echo connects kids with aquatic ecology in a creative way. Enjoy a spectacular performance! Watch Echo swim with underwater friends while you learn about freshwater and the creatures that call the water home. \nShows at 11:00 am – 11:30 am and 12:30 pm – 1:00 pm \nImportant Notes: \n\nIncluded with General Admission\, but please note that space per performance is extremely limited\, and all of Mermaid Echo’s performances are first-come\, first-served.\n\nLearn more about Echo: HERE
URL:https://discoveryworld.org/calendar-of-events/mermaid-echo-2-2024-04-21/
END:VEVENT
BEGIN:VEVENT
DTSTART;TZID=America/Chicago:20240505T110000
DTEND;TZID=America/Chicago:20240505T113000
DTSTAMP:20260419T111608
CREATED:20240208T155502Z
LAST-MODIFIED:20240421T161142Z
UID:16518-1714906800-1714908600@discoveryworld.org
SUMMARY:Mermaid Echo
DESCRIPTION:Monthly – Select Sundays\n11:00 am – 11:30 am \nMermaid Echo is back at Discovery World! Mermaid Echo connects kids with aquatic ecology in a creative way. Enjoy a spectacular performance! Watch Echo swim with underwater friends while you learn about freshwater and the creatures that call the water home. \nShows at 11:00 am – 11:30 am and 12:30 pm – 1:00 pm \nImportant Notes: \n\nIncluded with General Admission\, but please note that space per performance is extremely limited\, and all of Mermaid Echo’s performances are first-come\, first-served.\n\nLearn more about Echo: HERE
URL:https://discoveryworld.org/calendar-of-events/mermaid-echo-2024-04-21-2024-05-05/
END:VEVENT
BEGIN:VEVENT
DTSTART;TZID=America/Chicago:20240505T123000
DTEND;TZID=America/Chicago:20240505T130000
DTSTAMP:20260419T111608
CREATED:20240208T155925Z
LAST-MODIFIED:20240429T134517Z
UID:16516-1714912200-1714914000@discoveryworld.org
SUMMARY:Mermaid Echo
DESCRIPTION:Monthly – Select Sundays\n12:30 pm – 1:00 pm \nMermaid Echo is back at Discovery World! Mermaid Echo connects kids with aquatic ecology in a creative way. Enjoy a spectacular performance! Watch Echo swim with underwater friends while you learn about freshwater and the creatures that call the water home. \nShows at 11:00 am – 11:30 am and 12:30 pm – 1:00 pm \nImportant Notes: \n\nIncluded with General Admission\, but please note that space per performance is extremely limited\, and all of Mermaid Echo’s performances are first-come\, first-served.\n\nLearn more about Echo: HERE
URL:https://discoveryworld.org/calendar-of-events/mermaid-echo-2-2024-04-21-2024-05-05/
END:VEVENT
BEGIN:VEVENT
DTSTART;TZID=America/Chicago:20240518T100000
DTEND;TZID=America/Chicago:20240518T103000
DTSTAMP:20260419T111608
CREATED:20240125T162351Z
LAST-MODIFIED:20240314T151216Z
UID:16433-1716026400-1716028200@discoveryworld.org
SUMMARY:Animal Encounters
DESCRIPTION:Saturday\, May 18\, 2024\n10:00 am – 10:30 am  \nReptiles and snakes are some of the most fascinating creatures on the planet. Join our Aquarists for an adventure in our Great Lakes Future exhibit as you meet the animal ambassadors that call Discovery World home.  \nExplore our exhibit here: Great Lakes Future 
URL:https://discoveryworld.org/calendar-of-events/animal-encounters-8-2024-05-11/
END:VEVENT
BEGIN:VEVENT
DTSTART;VALUE=DATE:20240527
DTEND;VALUE=DATE:20240528
DTSTAMP:20260419T111608
CREATED:20240105T163459Z
LAST-MODIFIED:20240105T164158Z
UID:16183-1716768000-1716854399@discoveryworld.org
SUMMARY:CLOSED - Memorial Day
DESCRIPTION:Discovery World is CLOSED on Monday\, 5/27/2024
URL:https://discoveryworld.org/calendar-of-events/closed/
END:VEVENT
BEGIN:VEVENT
DTSTART;TZID=America/Chicago:20240602T120000
DTEND;TZID=America/Chicago:20240602T153000
DTSTAMP:20260419T111608
CREATED:20230425T141113Z
LAST-MODIFIED:20240507T163926Z
UID:16552-1717329600-1717342200@discoveryworld.org
SUMMARY:Kohl's Design It! Lab Open
DESCRIPTION:Sunday\, June 2\, 2024\n12:00 pm – 3:30 pm  \n*Opening late due to road closures associated with UPAF Ride for the Arts \nBring the whole family to the Kohl’s Design It! Lab to make wonderfully creative projects that you can take home. You’ll choose a project from our rotating menu and we’ll guide you through the creation process. Projects can take anywhere from 5-20 minutes. \n\nIncluded with General Admission\nLast call at 3:15 pm\n\nFor more information: Kohl’s Design It! Lab
URL:https://discoveryworld.org/calendar-of-events/kohls-design-it-lab-open-8-2024-06-02/
ATTACH;FMTTYPE=image/jpeg:https://discoveryworld.org/wp-content/uploads/2022/08/KDI2_1920x960-scaled.jpg
END:VEVENT
BEGIN:VEVENT
DTSTART;TZID=America/Chicago:20240608T100000
DTEND;TZID=America/Chicago:20240608T103000
DTSTAMP:20260419T111608
CREATED:20240125T162351Z
LAST-MODIFIED:20241030T182133Z
UID:16434-1717840800-1717842600@discoveryworld.org
SUMMARY:Animal Encounters
DESCRIPTION:Select Saturdays\n10:00 am – 10:30 am \n\nReptiles and snakes are some of the most fascinating creatures on the planet. Join our Aquarists for an adventure in our Great Lakes Future exhibit as you meet the animal ambassadors that call Discovery World home.\n\nExplore our exhibit here: Great Lakes Future 
URL:https://discoveryworld.org/calendar-of-events/animal-encounters-8/2024-06-08/
END:VEVENT
BEGIN:VEVENT
DTSTART;TZID=America/Chicago:20240616T110000
DTEND;TZID=America/Chicago:20240616T113000
DTSTAMP:20260419T111608
CREATED:20240208T155502Z
LAST-MODIFIED:20240807T150033Z
UID:16519-1718535600-1718537400@discoveryworld.org
SUMMARY:Mermaid Echo
DESCRIPTION:Monthly – Select Sundays\n11:00 am – 11:30 am\n\nMermaid Echo is back at Discovery World! Mermaid Echo connects kids with aquatic ecology in a creative way. Enjoy a spectacular performance! Watch Echo swim with underwater friends while you learn about freshwater and the creatures that call the water home.\n\nShows at 11:00 am – 11:30 am and 12:30 pm – 1:00 pm\n\n* This extra special performance is in partnership with Milwaukee Riverkeeper\n\nImportant Notes: \n\nIncluded with General Admission\, but please note that space per performance is extremely limited\, and all of Mermaid Echo’s performances are first-come\, first-served.\n\nLearn more about Echo HERE or our Reiman Aquarium HERE.
URL:https://discoveryworld.org/calendar-of-events/mermaid-echo-2024-04-21-2024-06-23/2024-06-16/
END:VEVENT
BEGIN:VEVENT
DTSTART;TZID=America/Chicago:20240616T123000
DTEND;TZID=America/Chicago:20240616T130000
DTSTAMP:20260419T111608
CREATED:20240208T155925Z
LAST-MODIFIED:20240624T175643Z
UID:16604-1718541000-1718542800@discoveryworld.org
SUMMARY:Mermaid Echo
DESCRIPTION:Monthly – Select Sundays\n12:30 pm – 1:00 pm\n\nMermaid Echo is back at Discovery World! Mermaid Echo connects kids with aquatic ecology in a creative way. Enjoy a spectacular performance! Watch Echo swim with underwater friends while you learn about freshwater and the creatures that call the water home.\n\nShows at 11:00 am – 11:30 am and 12:30 pm – 1:00 pm\n\nImportant Notes: \n\nIncluded with General Admission\, but please note that space per performance is extremely limited\, and all of Mermaid Echo’s performances are first-come\, first-served.\n\n\nLearn more about Echo HERE or our Reiman Aquarium HERE.
URL:https://discoveryworld.org/calendar-of-events/mermaid-echo-2-2024-04-21-2024-05-05-2024-06-16/2024-06-16/
END:VEVENT
BEGIN:VEVENT
DTSTART;VALUE=DATE:20240704
DTEND;VALUE=DATE:20240705
DTSTAMP:20260419T111608
CREATED:20240105T163742Z
LAST-MODIFIED:20240624T175249Z
UID:16184-1720051200-1720137599@discoveryworld.org
SUMMARY:CLOSED - Fourth of July
DESCRIPTION:Discovery World is CLOSED Thursday\, July 4\, 2024.
URL:https://discoveryworld.org/calendar-of-events/closed-3/
END:VEVENT
BEGIN:VEVENT
DTSTART;TZID=America/Chicago:20240707T110000
DTEND;TZID=America/Chicago:20240707T113000
DTSTAMP:20260419T111608
CREATED:20240208T155502Z
LAST-MODIFIED:20240903T171058Z
UID:16603-1720350000-1720351800@discoveryworld.org
SUMMARY:Mermaid Echo
DESCRIPTION:Monthly – Select Sundays\n11:00 am – 11:30 am\n\nMermaid Echo is back at Discovery World! Mermaid Echo connects kids with aquatic ecology in a creative way. Enjoy a spectacular performance! Watch Echo swim with underwater friends while you learn about freshwater and the creatures that call the water home.\n\nShows Times: \n\n11:00 am – 11:30 am\n12:30 pm – 1:00 pm\n\nImportant Notes: Included with General Admission\, but please note that space per performance is extremely limited\, and all of Mermaid Echo’s performances are first-come\, first-served.\n\nLearn more about Echo: HERE
URL:https://discoveryworld.org/calendar-of-events/mermaid-echo-2024-04-21-2024-06-23-2024-07-07/2024-07-07/
END:VEVENT
BEGIN:VEVENT
DTSTART;TZID=America/Chicago:20240707T123000
DTEND;TZID=America/Chicago:20240707T130000
DTSTAMP:20260419T111608
CREATED:20240208T155925Z
LAST-MODIFIED:20240903T170937Z
UID:16605-1720355400-1720357200@discoveryworld.org
SUMMARY:Mermaid Echo
DESCRIPTION:Monthly – Select Sundays\n12:30 pm – 1:00 pm\n\nMermaid Echo is back at Discovery World! Mermaid Echo connects kids with aquatic ecology in a creative way. Enjoy a spectacular performance! Watch Echo swim with underwater friends while you learn about freshwater and the creatures that call the water home.\n\nShow Times: \n\n11:00 am – 11:30 am\n12:30 pm – 1:00 pm\n\nImportant Notes: Included with General Admission\, but please note that space per performance is extremely limited\, and all of Mermaid Echo’s performances are first-come\, first-served.\n\nLearn more about Echo: HERE
URL:https://discoveryworld.org/calendar-of-events/mermaid-echo-2-2024-04-21-2024-05-05-2024-07-07/2024-07-07/
END:VEVENT
BEGIN:VEVENT
DTSTART;TZID=America/Chicago:20240713T100000
DTEND;TZID=America/Chicago:20240713T103000
DTSTAMP:20260419T111608
CREATED:20240125T162351Z
LAST-MODIFIED:20241030T182133Z
UID:16566-1720864800-1720866600@discoveryworld.org
SUMMARY:Animal Encounters
DESCRIPTION:Select Saturdays\n10:00 am – 10:30 am \n\nReptiles and snakes are some of the most fascinating creatures on the planet. Join our Aquarists for an adventure in our Great Lakes Future exhibit as you meet the animal ambassadors that call Discovery World home.\n\nExplore our exhibit here: Great Lakes Future 
URL:https://discoveryworld.org/calendar-of-events/animal-encounters-8/2024-07-13/
END:VEVENT
BEGIN:VEVENT
DTSTART;TZID=America/Chicago:20240728T100000
DTEND;TZID=America/Chicago:20240728T160000
DTSTAMP:20260419T111608
CREATED:20240624T173154Z
LAST-MODIFIED:20240724T205255Z
UID:16734-1722160800-1722182400@discoveryworld.org
SUMMARY:Member Viewing: Air & Water Show
DESCRIPTION:Sunday\, July 28\, 2024\n12:00 pm – 4:00 pm\n\nDiscovery World Member Perk: Enjoy exclusive Air Show views of the  Waterstone Bank Air & Water Show from Discovery World in an area reserved just for you in our Rotary Amphitheater!\n\nAir Show from 12:00 pm – 4:00 pm\n* Wristbands will be checked to confirm Membership\n\nItems to note: \n\nAll Members must check in at the Admissions Desk to get your wristband.\nViewing area is exclusively available to Discovery World Members.\nSpace is first come\, first served. The area will be open earlier in the morning for set up. Tickets are not available online.\nNo chairs are provided\, please bring your own chairs and blankets. Guests are responsible for their own items.\nThough chairs and coolers are welcome\, please be mindful about limited space and tiered seating.\nPlease note parking will be extremely limited and is not guaranteed.\nAs a KultureCity-certified venue\, we have a small number of noise-canceling headphones and sensory kits available for use. Help support our mission to inspire generations to discover the wonders of science. Become a Member.\n\n 
URL:https://discoveryworld.org/calendar-of-events/member-viewing-air-water-show/
ATTACH;FMTTYPE=image/jpeg:https://discoveryworld.org/wp-content/uploads/2024/06/24_DWAmpitheater.jpg
END:VEVENT
BEGIN:VEVENT
DTSTART;TZID=America/Chicago:20240810T100000
DTEND;TZID=America/Chicago:20240810T103000
DTSTAMP:20260419T111608
CREATED:20240125T162351Z
LAST-MODIFIED:20241030T182134Z
UID:16567-1723284000-1723285800@discoveryworld.org
SUMMARY:Animal Encounters
DESCRIPTION:Select Saturdays\n10:00 am – 10:30 am \n\nReptiles and snakes are some of the most fascinating creatures on the planet. Join our Aquarists for an adventure in our Great Lakes Future exhibit as you meet the animal ambassadors that call Discovery World home.\n\nExplore our exhibit here: Great Lakes Future 
URL:https://discoveryworld.org/calendar-of-events/animal-encounters-8/2024-08-10/
END:VEVENT
BEGIN:VEVENT
DTSTART;TZID=America/Chicago:20240811T100000
DTEND;TZID=America/Chicago:20240811T140000
DTSTAMP:20260419T111608
CREATED:20240624T174351Z
LAST-MODIFIED:20240807T184121Z
UID:16736-1723370400-1723384800@discoveryworld.org
SUMMARY:Wheels & Water
DESCRIPTION:Sunday\, August 11\, 2024\n10:00 am – 2:00 pm\n\nDoes your child get excited when they see large machinery in action? Bring them to Discovery World to see the incredible machines our city needs to thrive and meet the teams that operate them. This is a FREE outdoor event located on the grounds surrounding Discovery World.\n\nWant more? Explore inside Discovery World and get hands-on with this machinery in action through our exhibits like Milwaukee Muscle and BIG or dive into underwater worlds as Mermaid Echo will dazzle and inspire with shows in our Reiman Aquarium at 11:00 am and 12:30 pm.\n\nParticipating organizations: \n\nDepartment of Public Works Operations Fleet\nSHERP\nGearbox Labs\nMilwaukee Fire Department\nMilwaukee Police Department\nWeEnergies
URL:https://discoveryworld.org/calendar-of-events/wheels-water-2/
END:VEVENT
BEGIN:VEVENT
DTSTART;TZID=America/Chicago:20240811T110000
DTEND;TZID=America/Chicago:20240811T113000
DTSTAMP:20260419T111608
CREATED:20240208T155502Z
LAST-MODIFIED:20240807T145924Z
UID:16742-1723374000-1723375800@discoveryworld.org
SUMMARY:Mermaid Echo
DESCRIPTION:Monthly – Select Sundays\n11:00 am – 11:30 am\n\nMermaid Echo is back at Discovery World! Mermaid Echo connects kids with aquatic ecology in a creative way. Enjoy a spectacular performance! Watch Echo swim with underwater friends while you learn about freshwater and the creatures that call the water home.\nShows at 11:00 am – 11:30 am and 12:30 pm – 1:00 pm\n\n* This extra special performance is in partnership with Milwaukee Riverkeeper\n\nImportant Notes: \n\nIncluded with General Admission\, but please note that space per performance is extremely limited\, and all of Mermaid Echo’s performances are first-come\, first-served.\n\nLearn more about Echo HERE or our Reiman Aquarium HERE.
URL:https://discoveryworld.org/calendar-of-events/mermaid-echo-2024-04-21-2024-06-23-2024-08-11/
END:VEVENT
BEGIN:VEVENT
DTSTART;TZID=America/Chicago:20240811T123000
DTEND;TZID=America/Chicago:20240811T130000
DTSTAMP:20260419T111608
CREATED:20240208T155925Z
LAST-MODIFIED:20240807T150131Z
UID:16748-1723379400-1723381200@discoveryworld.org
SUMMARY:Mermaid Echo
DESCRIPTION:Monthly – Select Sundays\n12:30 pm – 1:00 pm\n\nMermaid Echo is back at Discovery World! Mermaid Echo connects kids with aquatic ecology in a creative way. Enjoy a spectacular performance! Watch Echo swim with underwater friends while you learn about freshwater and the creatures that call the water home.\n\nShows at 11:00 am – 11:30 am and 12:30 pm – 1:00 pm\n\n* This extra special performance is in partnership with Milwaukee Riverkeeper\n\nImportant Notes: \n\nIncluded with General Admission\, but please note that space per performance is extremely limited\, and all of Mermaid Echo’s performances are first-come\, first-served.\n\nLearn more about Echo HERE or our Reiman Aquarium HERE.
URL:https://discoveryworld.org/calendar-of-events/mermaid-echo-2-2024-04-21-2024-05-05-2024-06-16-2024-08-11/
END:VEVENT
BEGIN:VEVENT
DTSTART;VALUE=DATE:20240902
DTEND;VALUE=DATE:20240903
DTSTAMP:20260419T111608
CREATED:20240105T164109Z
LAST-MODIFIED:20240820T171704Z
UID:16185-1725235200-1725321599@discoveryworld.org
SUMMARY:CLOSED - Labor Day
DESCRIPTION:Discovery World is CLOSED on Monday\, September 2\, 2024.
URL:https://discoveryworld.org/calendar-of-events/closed-memorial-day/
END:VEVENT
BEGIN:VEVENT
DTSTART;VALUE=DATE:20240909
DTEND;VALUE=DATE:20240914
DTSTAMP:20260419T111608
CREATED:20240105T164858Z
LAST-MODIFIED:20240829T203143Z
UID:16187-1725840000-1726271999@discoveryworld.org
SUMMARY:CLOSED - Annual Maintenance
DESCRIPTION:Discovery World is CLOSED September 3-6 and September 9-13 for Annual Maintenance. \nDiscovery World is OPEN on weekends during this time!
URL:https://discoveryworld.org/calendar-of-events/closed-annual-maintenance-4/
END:VEVENT
BEGIN:VEVENT
DTSTART;TZID=America/Chicago:20240914T100000
DTEND;TZID=America/Chicago:20240914T103000
DTSTAMP:20260419T111608
CREATED:20240125T162351Z
LAST-MODIFIED:20241030T182134Z
UID:16919-1726308000-1726309800@discoveryworld.org
SUMMARY:Animal Encounters
DESCRIPTION:Select Saturdays\n10:00 am – 10:30 am \n\nReptiles and snakes are some of the most fascinating creatures on the planet. Join our Aquarists for an adventure in our Great Lakes Future exhibit as you meet the animal ambassadors that call Discovery World home.\n\nExplore our exhibit here: Great Lakes Future 
URL:https://discoveryworld.org/calendar-of-events/animal-encounters-8/2024-09-14/
END:VEVENT
BEGIN:VEVENT
DTSTART;VALUE=DATE:20240916
DTEND;VALUE=DATE:20240917
DTSTAMP:20260419T111608
CREATED:20240823T142226Z
LAST-MODIFIED:20240917T200419Z
UID:16860-1726444800-1726531199@discoveryworld.org
SUMMARY:CLOSED
DESCRIPTION:Discovery World is currently closed on Mondays and Tuesdays.
URL:https://discoveryworld.org/calendar-of-events/closed-5/2024-09-16/
END:VEVENT
END:VCALENDAR