BEGIN:VCALENDAR
VERSION:2.0
PRODID:-//Discovery World - ECPv6.15.20//NONSGML v1.0//EN
CALSCALE:GREGORIAN
METHOD:PUBLISH
X-WR-CALNAME:Discovery World
X-ORIGINAL-URL:https://discoveryworld.org
X-WR-CALDESC:Events for Discovery World
REFRESH-INTERVAL;VALUE=DURATION:PT1H
X-Robots-Tag:noindex
X-PUBLISHED-TTL:PT1H
BEGIN:VTIMEZONE
TZID:America/Chicago
BEGIN:DAYLIGHT
TZOFFSETFROM:-0600
TZOFFSETTO:-0500
TZNAME:CDT
DTSTART:20230312T080000
END:DAYLIGHT
BEGIN:STANDARD
TZOFFSETFROM:-0500
TZOFFSETTO:-0600
TZNAME:CST
DTSTART:20231105T070000
END:STANDARD
BEGIN:DAYLIGHT
TZOFFSETFROM:-0600
TZOFFSETTO:-0500
TZNAME:CDT
DTSTART:20240310T080000
END:DAYLIGHT
BEGIN:STANDARD
TZOFFSETFROM:-0500
TZOFFSETTO:-0600
TZNAME:CST
DTSTART:20241103T070000
END:STANDARD
BEGIN:DAYLIGHT
TZOFFSETFROM:-0600
TZOFFSETTO:-0500
TZNAME:CDT
DTSTART:20250309T080000
END:DAYLIGHT
BEGIN:STANDARD
TZOFFSETFROM:-0500
TZOFFSETTO:-0600
TZNAME:CST
DTSTART:20251102T070000
END:STANDARD
END:VTIMEZONE
BEGIN:VEVENT
DTSTART;TZID=America/Chicago:20240208T100000
DTEND;TZID=America/Chicago:20240208T140000
DTSTAMP:20260419T112228
CREATED:20240124T192743Z
LAST-MODIFIED:20240129T190900Z
UID:16217-1707386400-1707400800@discoveryworld.org
SUMMARY:Young Innovators Day
DESCRIPTION:Friday\, February 8\, 2024\n10:00 am – 2:00 pm \nJoin the excitement at Discovery World as we celebrate Young Innovators Day! 🌟 Bring your curiosity and find hands-on activities that will inspire the next generation of thinkers and doers on our Promenade.
URL:https://discoveryworld.org/calendar-of-events/young-innovators-day/
END:VEVENT
BEGIN:VEVENT
DTSTART;TZID=America/Chicago:20240127T100000
DTEND;TZID=America/Chicago:20240127T130000
DTSTAMP:20260419T112228
CREATED:20240110T183259Z
LAST-MODIFIED:20240111T150519Z
UID:16201-1706349600-1706360400@discoveryworld.org
SUMMARY:Storybook Science
DESCRIPTION:Storybook Science: The Science of Snowflakes\nSaturday\, January 27th\, 2024\n10:00 am – 1:00 pm \nJoin a Discovery World educator and explore the amazing story of snowflakes! Come to the STEM Lab for storytime and stay for some fun snowflake activities. Storybook Science is a science-based educational storytime for all ages. \n📚 10:00am – Storytime Reading #1 (followed by self-guided activities)\n📘 11:30am – Storytime Reading #2 (followed by self-guided activities) \nDon’t miss this enchanting session of Storybook Science wrapping up at 1pm. Come\, explore\, and unravel the mysteries of snowflakes! \n*Included with General Admission. Caregivers must be present.
URL:https://discoveryworld.org/calendar-of-events/storybook-science/
END:VEVENT
BEGIN:VEVENT
DTSTART;TZID=America/Chicago:20240115T090000
DTEND;TZID=America/Chicago:20240115T160000
DTSTAMP:20260419T112228
CREATED:20231208T175104Z
LAST-MODIFIED:20240105T211405Z
UID:16097-1705309200-1705334400@discoveryworld.org
SUMMARY:OPEN - MLK DAY
DESCRIPTION:Monday\, January 15\, 2024\n9:00 am – 4:00 pm \nDiscovery World is OPEN for Martin Luther King Jr. Day
URL:https://discoveryworld.org/calendar-of-events/open-mlk-day/
END:VEVENT
END:VCALENDAR