BEGIN:VCALENDAR
VERSION:2.0
PRODID:-//Discovery World - ECPv6.15.20//NONSGML v1.0//EN
CALSCALE:GREGORIAN
METHOD:PUBLISH
X-ORIGINAL-URL:https://discoveryworld.org
X-WR-CALDESC:Events for Discovery World
REFRESH-INTERVAL;VALUE=DURATION:PT1H
X-Robots-Tag:noindex
X-PUBLISHED-TTL:PT1H
BEGIN:VTIMEZONE
TZID:America/Chicago
BEGIN:DAYLIGHT
TZOFFSETFROM:-0600
TZOFFSETTO:-0500
TZNAME:CDT
DTSTART:20250309T080000
END:DAYLIGHT
BEGIN:STANDARD
TZOFFSETFROM:-0500
TZOFFSETTO:-0600
TZNAME:CST
DTSTART:20251102T070000
END:STANDARD
BEGIN:DAYLIGHT
TZOFFSETFROM:-0600
TZOFFSETTO:-0500
TZNAME:CDT
DTSTART:20260308T080000
END:DAYLIGHT
BEGIN:STANDARD
TZOFFSETFROM:-0500
TZOFFSETTO:-0600
TZNAME:CST
DTSTART:20261101T070000
END:STANDARD
BEGIN:DAYLIGHT
TZOFFSETFROM:-0600
TZOFFSETTO:-0500
TZNAME:CDT
DTSTART:20270314T080000
END:DAYLIGHT
BEGIN:STANDARD
TZOFFSETFROM:-0500
TZOFFSETTO:-0600
TZNAME:CST
DTSTART:20271107T070000
END:STANDARD
END:VTIMEZONE
BEGIN:VEVENT
DTSTART;TZID=America/Chicago:20260419T090000
DTEND;TZID=America/Chicago:20260419T153000
DTSTAMP:20260419T112743
CREATED:20230425T141113Z
LAST-MODIFIED:20230425T141113Z
UID:19573-1776589200-1776612600@discoveryworld.org
SUMMARY:Kohl's Design It! Lab Open
DESCRIPTION:Saturdays & Sundays\n9:00 am – 3:30 pm \n\nBring the whole family to the Kohl’s Design It! Lab to make wonderfully creative projects that you can take home. You’ll choose a project from our rotating menu and we’ll guide you through the creation process. Projects can take anywhere from 5-20 minutes. \n\nIncluded with General Admission\nLast call at 3:15 pm\n\n\nFor more information: Kohl’s Design It! Lab
URL:https://discoveryworld.org/calendar-of-events/kohls-design-it-lab-open-8/2026-04-19/
ATTACH;FMTTYPE=image/jpeg:https://discoveryworld.org/wp-content/uploads/2022/08/KDI2_1920x960-scaled.jpg
END:VEVENT
BEGIN:VEVENT
DTSTART;TZID=America/Chicago:20260425T090000
DTEND;TZID=America/Chicago:20260425T153000
DTSTAMP:20260419T112743
CREATED:20230425T141113Z
LAST-MODIFIED:20230425T141113Z
UID:19574-1777107600-1777131000@discoveryworld.org
SUMMARY:Kohl's Design It! Lab Open
DESCRIPTION:Saturdays & Sundays\n9:00 am – 3:30 pm \n\nBring the whole family to the Kohl’s Design It! Lab to make wonderfully creative projects that you can take home. You’ll choose a project from our rotating menu and we’ll guide you through the creation process. Projects can take anywhere from 5-20 minutes. \n\nIncluded with General Admission\nLast call at 3:15 pm\n\n\nFor more information: Kohl’s Design It! Lab
URL:https://discoveryworld.org/calendar-of-events/kohls-design-it-lab-open-8/2026-04-25/
ATTACH;FMTTYPE=image/jpeg:https://discoveryworld.org/wp-content/uploads/2022/08/KDI2_1920x960-scaled.jpg
END:VEVENT
BEGIN:VEVENT
DTSTART;TZID=America/Chicago:20260426T090000
DTEND;TZID=America/Chicago:20260426T153000
DTSTAMP:20260419T112743
CREATED:20230425T141113Z
LAST-MODIFIED:20230425T141113Z
UID:19575-1777194000-1777217400@discoveryworld.org
SUMMARY:Kohl's Design It! Lab Open
DESCRIPTION:Saturdays & Sundays\n9:00 am – 3:30 pm \n\nBring the whole family to the Kohl’s Design It! Lab to make wonderfully creative projects that you can take home. You’ll choose a project from our rotating menu and we’ll guide you through the creation process. Projects can take anywhere from 5-20 minutes. \n\nIncluded with General Admission\nLast call at 3:15 pm\n\n\nFor more information: Kohl’s Design It! Lab
URL:https://discoveryworld.org/calendar-of-events/kohls-design-it-lab-open-8/2026-04-26/
ATTACH;FMTTYPE=image/jpeg:https://discoveryworld.org/wp-content/uploads/2022/08/KDI2_1920x960-scaled.jpg
END:VEVENT
BEGIN:VEVENT
DTSTART;TZID=America/Chicago:20260509T090000
DTEND;TZID=America/Chicago:20260509T153000
DTSTAMP:20260419T112743
CREATED:20230425T141113Z
LAST-MODIFIED:20230425T141113Z
UID:19576-1778317200-1778340600@discoveryworld.org
SUMMARY:Kohl's Design It! Lab Open
DESCRIPTION:Saturdays & Sundays\n9:00 am – 3:30 pm \n\nBring the whole family to the Kohl’s Design It! Lab to make wonderfully creative projects that you can take home. You’ll choose a project from our rotating menu and we’ll guide you through the creation process. Projects can take anywhere from 5-20 minutes. \n\nIncluded with General Admission\nLast call at 3:15 pm\n\n\nFor more information: Kohl’s Design It! Lab
URL:https://discoveryworld.org/calendar-of-events/kohls-design-it-lab-open-8/2026-05-09/
ATTACH;FMTTYPE=image/jpeg:https://discoveryworld.org/wp-content/uploads/2022/08/KDI2_1920x960-scaled.jpg
END:VEVENT
BEGIN:VEVENT
DTSTART;TZID=America/Chicago:20260510T090000
DTEND;TZID=America/Chicago:20260510T153000
DTSTAMP:20260419T112743
CREATED:20230425T141113Z
LAST-MODIFIED:20230425T141113Z
UID:19577-1778403600-1778427000@discoveryworld.org
SUMMARY:Kohl's Design It! Lab Open
DESCRIPTION:Saturdays & Sundays\n9:00 am – 3:30 pm \n\nBring the whole family to the Kohl’s Design It! Lab to make wonderfully creative projects that you can take home. You’ll choose a project from our rotating menu and we’ll guide you through the creation process. Projects can take anywhere from 5-20 minutes. \n\nIncluded with General Admission\nLast call at 3:15 pm\n\n\nFor more information: Kohl’s Design It! Lab
URL:https://discoveryworld.org/calendar-of-events/kohls-design-it-lab-open-8/2026-05-10/
ATTACH;FMTTYPE=image/jpeg:https://discoveryworld.org/wp-content/uploads/2022/08/KDI2_1920x960-scaled.jpg
END:VEVENT
BEGIN:VEVENT
DTSTART;TZID=America/Chicago:20260516T090000
DTEND;TZID=America/Chicago:20260516T153000
DTSTAMP:20260419T112743
CREATED:20230425T141113Z
LAST-MODIFIED:20230425T141113Z
UID:19578-1778922000-1778945400@discoveryworld.org
SUMMARY:Kohl's Design It! Lab Open
DESCRIPTION:Saturdays & Sundays\n9:00 am – 3:30 pm \n\nBring the whole family to the Kohl’s Design It! Lab to make wonderfully creative projects that you can take home. You’ll choose a project from our rotating menu and we’ll guide you through the creation process. Projects can take anywhere from 5-20 minutes. \n\nIncluded with General Admission\nLast call at 3:15 pm\n\n\nFor more information: Kohl’s Design It! Lab
URL:https://discoveryworld.org/calendar-of-events/kohls-design-it-lab-open-8/2026-05-16/
ATTACH;FMTTYPE=image/jpeg:https://discoveryworld.org/wp-content/uploads/2022/08/KDI2_1920x960-scaled.jpg
END:VEVENT
BEGIN:VEVENT
DTSTART;TZID=America/Chicago:20260517T090000
DTEND;TZID=America/Chicago:20260517T153000
DTSTAMP:20260419T112743
CREATED:20230425T141113Z
LAST-MODIFIED:20230425T141113Z
UID:19579-1779008400-1779031800@discoveryworld.org
SUMMARY:Kohl's Design It! Lab Open
DESCRIPTION:Saturdays & Sundays\n9:00 am – 3:30 pm \n\nBring the whole family to the Kohl’s Design It! Lab to make wonderfully creative projects that you can take home. You’ll choose a project from our rotating menu and we’ll guide you through the creation process. Projects can take anywhere from 5-20 minutes. \n\nIncluded with General Admission\nLast call at 3:15 pm\n\n\nFor more information: Kohl’s Design It! Lab
URL:https://discoveryworld.org/calendar-of-events/kohls-design-it-lab-open-8/2026-05-17/
ATTACH;FMTTYPE=image/jpeg:https://discoveryworld.org/wp-content/uploads/2022/08/KDI2_1920x960-scaled.jpg
END:VEVENT
BEGIN:VEVENT
DTSTART;TZID=America/Chicago:20260523T090000
DTEND;TZID=America/Chicago:20260523T153000
DTSTAMP:20260419T112743
CREATED:20230425T141113Z
LAST-MODIFIED:20230425T141113Z
UID:19580-1779526800-1779550200@discoveryworld.org
SUMMARY:Kohl's Design It! Lab Open
DESCRIPTION:Saturdays & Sundays\n9:00 am – 3:30 pm \n\nBring the whole family to the Kohl’s Design It! Lab to make wonderfully creative projects that you can take home. You’ll choose a project from our rotating menu and we’ll guide you through the creation process. Projects can take anywhere from 5-20 minutes. \n\nIncluded with General Admission\nLast call at 3:15 pm\n\n\nFor more information: Kohl’s Design It! Lab
URL:https://discoveryworld.org/calendar-of-events/kohls-design-it-lab-open-8/2026-05-23/
ATTACH;FMTTYPE=image/jpeg:https://discoveryworld.org/wp-content/uploads/2022/08/KDI2_1920x960-scaled.jpg
END:VEVENT
BEGIN:VEVENT
DTSTART;TZID=America/Chicago:20260524T090000
DTEND;TZID=America/Chicago:20260524T153000
DTSTAMP:20260419T112743
CREATED:20230425T141113Z
LAST-MODIFIED:20230425T141113Z
UID:19581-1779613200-1779636600@discoveryworld.org
SUMMARY:Kohl's Design It! Lab Open
DESCRIPTION:Saturdays & Sundays\n9:00 am – 3:30 pm \n\nBring the whole family to the Kohl’s Design It! Lab to make wonderfully creative projects that you can take home. You’ll choose a project from our rotating menu and we’ll guide you through the creation process. Projects can take anywhere from 5-20 minutes. \n\nIncluded with General Admission\nLast call at 3:15 pm\n\n\nFor more information: Kohl’s Design It! Lab
URL:https://discoveryworld.org/calendar-of-events/kohls-design-it-lab-open-8/2026-05-24/
ATTACH;FMTTYPE=image/jpeg:https://discoveryworld.org/wp-content/uploads/2022/08/KDI2_1920x960-scaled.jpg
END:VEVENT
BEGIN:VEVENT
DTSTART;TZID=America/Chicago:20260530T090000
DTEND;TZID=America/Chicago:20260530T153000
DTSTAMP:20260419T112743
CREATED:20230425T141113Z
LAST-MODIFIED:20230425T141113Z
UID:19582-1780131600-1780155000@discoveryworld.org
SUMMARY:Kohl's Design It! Lab Open
DESCRIPTION:Saturdays & Sundays\n9:00 am – 3:30 pm \n\nBring the whole family to the Kohl’s Design It! Lab to make wonderfully creative projects that you can take home. You’ll choose a project from our rotating menu and we’ll guide you through the creation process. Projects can take anywhere from 5-20 minutes. \n\nIncluded with General Admission\nLast call at 3:15 pm\n\n\nFor more information: Kohl’s Design It! Lab
URL:https://discoveryworld.org/calendar-of-events/kohls-design-it-lab-open-8/2026-05-30/
ATTACH;FMTTYPE=image/jpeg:https://discoveryworld.org/wp-content/uploads/2022/08/KDI2_1920x960-scaled.jpg
END:VEVENT
BEGIN:VEVENT
DTSTART;TZID=America/Chicago:20260531T090000
DTEND;TZID=America/Chicago:20260531T153000
DTSTAMP:20260419T112743
CREATED:20230425T141113Z
LAST-MODIFIED:20230425T141113Z
UID:19583-1780218000-1780241400@discoveryworld.org
SUMMARY:Kohl's Design It! Lab Open
DESCRIPTION:Saturdays & Sundays\n9:00 am – 3:30 pm \n\nBring the whole family to the Kohl’s Design It! Lab to make wonderfully creative projects that you can take home. You’ll choose a project from our rotating menu and we’ll guide you through the creation process. Projects can take anywhere from 5-20 minutes. \n\nIncluded with General Admission\nLast call at 3:15 pm\n\n\nFor more information: Kohl’s Design It! Lab
URL:https://discoveryworld.org/calendar-of-events/kohls-design-it-lab-open-8/2026-05-31/
ATTACH;FMTTYPE=image/jpeg:https://discoveryworld.org/wp-content/uploads/2022/08/KDI2_1920x960-scaled.jpg
END:VEVENT
BEGIN:VEVENT
DTSTART;TZID=America/Chicago:20260606T090000
DTEND;TZID=America/Chicago:20260606T153000
DTSTAMP:20260419T112743
CREATED:20230425T141113Z
LAST-MODIFIED:20230425T141113Z
UID:19584-1780736400-1780759800@discoveryworld.org
SUMMARY:Kohl's Design It! Lab Open
DESCRIPTION:Saturdays & Sundays\n9:00 am – 3:30 pm \n\nBring the whole family to the Kohl’s Design It! Lab to make wonderfully creative projects that you can take home. You’ll choose a project from our rotating menu and we’ll guide you through the creation process. Projects can take anywhere from 5-20 minutes. \n\nIncluded with General Admission\nLast call at 3:15 pm\n\n\nFor more information: Kohl’s Design It! Lab
URL:https://discoveryworld.org/calendar-of-events/kohls-design-it-lab-open-8/2026-06-06/
ATTACH;FMTTYPE=image/jpeg:https://discoveryworld.org/wp-content/uploads/2022/08/KDI2_1920x960-scaled.jpg
END:VEVENT
BEGIN:VEVENT
DTSTART;TZID=America/Chicago:20260607T090000
DTEND;TZID=America/Chicago:20260607T153000
DTSTAMP:20260419T112743
CREATED:20230425T141113Z
LAST-MODIFIED:20230425T141113Z
UID:19585-1780822800-1780846200@discoveryworld.org
SUMMARY:Kohl's Design It! Lab Open
DESCRIPTION:Saturdays & Sundays\n9:00 am – 3:30 pm \n\nBring the whole family to the Kohl’s Design It! Lab to make wonderfully creative projects that you can take home. You’ll choose a project from our rotating menu and we’ll guide you through the creation process. Projects can take anywhere from 5-20 minutes. \n\nIncluded with General Admission\nLast call at 3:15 pm\n\n\nFor more information: Kohl’s Design It! Lab
URL:https://discoveryworld.org/calendar-of-events/kohls-design-it-lab-open-8/2026-06-07/
ATTACH;FMTTYPE=image/jpeg:https://discoveryworld.org/wp-content/uploads/2022/08/KDI2_1920x960-scaled.jpg
END:VEVENT
BEGIN:VEVENT
DTSTART;TZID=America/Chicago:20260613T090000
DTEND;TZID=America/Chicago:20260613T153000
DTSTAMP:20260419T112743
CREATED:20230425T141113Z
LAST-MODIFIED:20230425T141113Z
UID:19586-1781341200-1781364600@discoveryworld.org
SUMMARY:Kohl's Design It! Lab Open
DESCRIPTION:Saturdays & Sundays\n9:00 am – 3:30 pm \n\nBring the whole family to the Kohl’s Design It! Lab to make wonderfully creative projects that you can take home. You’ll choose a project from our rotating menu and we’ll guide you through the creation process. Projects can take anywhere from 5-20 minutes. \n\nIncluded with General Admission\nLast call at 3:15 pm\n\n\nFor more information: Kohl’s Design It! Lab
URL:https://discoveryworld.org/calendar-of-events/kohls-design-it-lab-open-8/2026-06-13/
ATTACH;FMTTYPE=image/jpeg:https://discoveryworld.org/wp-content/uploads/2022/08/KDI2_1920x960-scaled.jpg
END:VEVENT
BEGIN:VEVENT
DTSTART;TZID=America/Chicago:20260614T090000
DTEND;TZID=America/Chicago:20260614T153000
DTSTAMP:20260419T112743
CREATED:20230425T141113Z
LAST-MODIFIED:20230425T141113Z
UID:19587-1781427600-1781451000@discoveryworld.org
SUMMARY:Kohl's Design It! Lab Open
DESCRIPTION:Saturdays & Sundays\n9:00 am – 3:30 pm \n\nBring the whole family to the Kohl’s Design It! Lab to make wonderfully creative projects that you can take home. You’ll choose a project from our rotating menu and we’ll guide you through the creation process. Projects can take anywhere from 5-20 minutes. \n\nIncluded with General Admission\nLast call at 3:15 pm\n\n\nFor more information: Kohl’s Design It! Lab
URL:https://discoveryworld.org/calendar-of-events/kohls-design-it-lab-open-8/2026-06-14/
ATTACH;FMTTYPE=image/jpeg:https://discoveryworld.org/wp-content/uploads/2022/08/KDI2_1920x960-scaled.jpg
END:VEVENT
BEGIN:VEVENT
DTSTART;TZID=America/Chicago:20260620T090000
DTEND;TZID=America/Chicago:20260620T153000
DTSTAMP:20260419T112743
CREATED:20230425T141113Z
LAST-MODIFIED:20230425T141113Z
UID:19588-1781946000-1781969400@discoveryworld.org
SUMMARY:Kohl's Design It! Lab Open
DESCRIPTION:Saturdays & Sundays\n9:00 am – 3:30 pm \n\nBring the whole family to the Kohl’s Design It! Lab to make wonderfully creative projects that you can take home. You’ll choose a project from our rotating menu and we’ll guide you through the creation process. Projects can take anywhere from 5-20 minutes. \n\nIncluded with General Admission\nLast call at 3:15 pm\n\n\nFor more information: Kohl’s Design It! Lab
URL:https://discoveryworld.org/calendar-of-events/kohls-design-it-lab-open-8/2026-06-20/
ATTACH;FMTTYPE=image/jpeg:https://discoveryworld.org/wp-content/uploads/2022/08/KDI2_1920x960-scaled.jpg
END:VEVENT
BEGIN:VEVENT
DTSTART;TZID=America/Chicago:20260621T090000
DTEND;TZID=America/Chicago:20260621T153000
DTSTAMP:20260419T112743
CREATED:20230425T141113Z
LAST-MODIFIED:20230425T141113Z
UID:19589-1782032400-1782055800@discoveryworld.org
SUMMARY:Kohl's Design It! Lab Open
DESCRIPTION:Saturdays & Sundays\n9:00 am – 3:30 pm \n\nBring the whole family to the Kohl’s Design It! Lab to make wonderfully creative projects that you can take home. You’ll choose a project from our rotating menu and we’ll guide you through the creation process. Projects can take anywhere from 5-20 minutes. \n\nIncluded with General Admission\nLast call at 3:15 pm\n\n\nFor more information: Kohl’s Design It! Lab
URL:https://discoveryworld.org/calendar-of-events/kohls-design-it-lab-open-8/2026-06-21/
ATTACH;FMTTYPE=image/jpeg:https://discoveryworld.org/wp-content/uploads/2022/08/KDI2_1920x960-scaled.jpg
END:VEVENT
BEGIN:VEVENT
DTSTART;TZID=America/Chicago:20260627T090000
DTEND;TZID=America/Chicago:20260627T153000
DTSTAMP:20260419T112743
CREATED:20230425T141113Z
LAST-MODIFIED:20230425T141113Z
UID:19590-1782550800-1782574200@discoveryworld.org
SUMMARY:Kohl's Design It! Lab Open
DESCRIPTION:Saturdays & Sundays\n9:00 am – 3:30 pm \n\nBring the whole family to the Kohl’s Design It! Lab to make wonderfully creative projects that you can take home. You’ll choose a project from our rotating menu and we’ll guide you through the creation process. Projects can take anywhere from 5-20 minutes. \n\nIncluded with General Admission\nLast call at 3:15 pm\n\n\nFor more information: Kohl’s Design It! Lab
URL:https://discoveryworld.org/calendar-of-events/kohls-design-it-lab-open-8/2026-06-27/
ATTACH;FMTTYPE=image/jpeg:https://discoveryworld.org/wp-content/uploads/2022/08/KDI2_1920x960-scaled.jpg
END:VEVENT
BEGIN:VEVENT
DTSTART;TZID=America/Chicago:20260628T090000
DTEND;TZID=America/Chicago:20260628T153000
DTSTAMP:20260419T112743
CREATED:20230425T141113Z
LAST-MODIFIED:20230425T141113Z
UID:19591-1782637200-1782660600@discoveryworld.org
SUMMARY:Kohl's Design It! Lab Open
DESCRIPTION:Saturdays & Sundays\n9:00 am – 3:30 pm \n\nBring the whole family to the Kohl’s Design It! Lab to make wonderfully creative projects that you can take home. You’ll choose a project from our rotating menu and we’ll guide you through the creation process. Projects can take anywhere from 5-20 minutes. \n\nIncluded with General Admission\nLast call at 3:15 pm\n\n\nFor more information: Kohl’s Design It! Lab
URL:https://discoveryworld.org/calendar-of-events/kohls-design-it-lab-open-8/2026-06-28/
ATTACH;FMTTYPE=image/jpeg:https://discoveryworld.org/wp-content/uploads/2022/08/KDI2_1920x960-scaled.jpg
END:VEVENT
BEGIN:VEVENT
DTSTART;TZID=America/Chicago:20260705T090000
DTEND;TZID=America/Chicago:20260705T153000
DTSTAMP:20260419T112743
CREATED:20230425T141113Z
LAST-MODIFIED:20260417T153019Z
UID:19424-1783242000-1783265400@discoveryworld.org
SUMMARY:Kohl's Design It! Lab Open
DESCRIPTION:Saturdays & Sundays\n9:00 am – 3:30 pm \n\nBring the whole family to the Kohl’s Design It! Lab to make wonderfully creative projects that you can take home. You’ll choose a project from our rotating menu and we’ll guide you through the creation process. Projects can take anywhere from 5-20 minutes. \n\nIncluded with General Admission\nLast call at 3:15 pm\n\n\nFor more information: Kohl’s Design It! Lab
URL:https://discoveryworld.org/calendar-of-events/kohls-design-it-lab-open-8/2026-07-05/
ATTACH;FMTTYPE=image/jpeg:https://discoveryworld.org/wp-content/uploads/2022/08/KDI2_1920x960-scaled.jpg
END:VEVENT
BEGIN:VEVENT
DTSTART;TZID=America/Chicago:20260711T090000
DTEND;TZID=America/Chicago:20260711T153000
DTSTAMP:20260419T112743
CREATED:20230425T141113Z
LAST-MODIFIED:20260417T153019Z
UID:19425-1783760400-1783783800@discoveryworld.org
SUMMARY:Kohl's Design It! Lab Open
DESCRIPTION:Saturdays & Sundays\n9:00 am – 3:30 pm \n\nBring the whole family to the Kohl’s Design It! Lab to make wonderfully creative projects that you can take home. You’ll choose a project from our rotating menu and we’ll guide you through the creation process. Projects can take anywhere from 5-20 minutes. \n\nIncluded with General Admission\nLast call at 3:15 pm\n\n\nFor more information: Kohl’s Design It! Lab
URL:https://discoveryworld.org/calendar-of-events/kohls-design-it-lab-open-8/2026-07-11/
ATTACH;FMTTYPE=image/jpeg:https://discoveryworld.org/wp-content/uploads/2022/08/KDI2_1920x960-scaled.jpg
END:VEVENT
BEGIN:VEVENT
DTSTART;TZID=America/Chicago:20260712T090000
DTEND;TZID=America/Chicago:20260712T153000
DTSTAMP:20260419T112743
CREATED:20230425T141113Z
LAST-MODIFIED:20260417T153019Z
UID:19426-1783846800-1783870200@discoveryworld.org
SUMMARY:Kohl's Design It! Lab Open
DESCRIPTION:Saturdays & Sundays\n9:00 am – 3:30 pm \n\nBring the whole family to the Kohl’s Design It! Lab to make wonderfully creative projects that you can take home. You’ll choose a project from our rotating menu and we’ll guide you through the creation process. Projects can take anywhere from 5-20 minutes. \n\nIncluded with General Admission\nLast call at 3:15 pm\n\n\nFor more information: Kohl’s Design It! Lab
URL:https://discoveryworld.org/calendar-of-events/kohls-design-it-lab-open-8/2026-07-12/
ATTACH;FMTTYPE=image/jpeg:https://discoveryworld.org/wp-content/uploads/2022/08/KDI2_1920x960-scaled.jpg
END:VEVENT
BEGIN:VEVENT
DTSTART;TZID=America/Chicago:20260718T090000
DTEND;TZID=America/Chicago:20260718T153000
DTSTAMP:20260419T112743
CREATED:20230425T141113Z
LAST-MODIFIED:20260417T153020Z
UID:19427-1784365200-1784388600@discoveryworld.org
SUMMARY:Kohl's Design It! Lab Open
DESCRIPTION:Saturdays & Sundays\n9:00 am – 3:30 pm \n\nBring the whole family to the Kohl’s Design It! Lab to make wonderfully creative projects that you can take home. You’ll choose a project from our rotating menu and we’ll guide you through the creation process. Projects can take anywhere from 5-20 minutes. \n\nIncluded with General Admission\nLast call at 3:15 pm\n\n\nFor more information: Kohl’s Design It! Lab
URL:https://discoveryworld.org/calendar-of-events/kohls-design-it-lab-open-8/2026-07-18/
ATTACH;FMTTYPE=image/jpeg:https://discoveryworld.org/wp-content/uploads/2022/08/KDI2_1920x960-scaled.jpg
END:VEVENT
BEGIN:VEVENT
DTSTART;TZID=America/Chicago:20260719T090000
DTEND;TZID=America/Chicago:20260719T153000
DTSTAMP:20260419T112743
CREATED:20230425T141113Z
LAST-MODIFIED:20260417T153020Z
UID:19428-1784451600-1784475000@discoveryworld.org
SUMMARY:Kohl's Design It! Lab Open
DESCRIPTION:Saturdays & Sundays\n9:00 am – 3:30 pm \n\nBring the whole family to the Kohl’s Design It! Lab to make wonderfully creative projects that you can take home. You’ll choose a project from our rotating menu and we’ll guide you through the creation process. Projects can take anywhere from 5-20 minutes. \n\nIncluded with General Admission\nLast call at 3:15 pm\n\n\nFor more information: Kohl’s Design It! Lab
URL:https://discoveryworld.org/calendar-of-events/kohls-design-it-lab-open-8/2026-07-19/
ATTACH;FMTTYPE=image/jpeg:https://discoveryworld.org/wp-content/uploads/2022/08/KDI2_1920x960-scaled.jpg
END:VEVENT
BEGIN:VEVENT
DTSTART;TZID=America/Chicago:20260725T090000
DTEND;TZID=America/Chicago:20260725T153000
DTSTAMP:20260419T112743
CREATED:20230425T141113Z
LAST-MODIFIED:20260417T153021Z
UID:19429-1784970000-1784993400@discoveryworld.org
SUMMARY:Kohl's Design It! Lab Open
DESCRIPTION:Saturdays & Sundays\n9:00 am – 3:30 pm \n\nBring the whole family to the Kohl’s Design It! Lab to make wonderfully creative projects that you can take home. You’ll choose a project from our rotating menu and we’ll guide you through the creation process. Projects can take anywhere from 5-20 minutes. \n\nIncluded with General Admission\nLast call at 3:15 pm\n\n\nFor more information: Kohl’s Design It! Lab
URL:https://discoveryworld.org/calendar-of-events/kohls-design-it-lab-open-8/2026-07-25/
ATTACH;FMTTYPE=image/jpeg:https://discoveryworld.org/wp-content/uploads/2022/08/KDI2_1920x960-scaled.jpg
END:VEVENT
BEGIN:VEVENT
DTSTART;TZID=America/Chicago:20260726T090000
DTEND;TZID=America/Chicago:20260726T153000
DTSTAMP:20260419T112743
CREATED:20230425T141113Z
LAST-MODIFIED:20260417T153021Z
UID:19430-1785056400-1785079800@discoveryworld.org
SUMMARY:Kohl's Design It! Lab Open
DESCRIPTION:Saturdays & Sundays\n9:00 am – 3:30 pm \n\nBring the whole family to the Kohl’s Design It! Lab to make wonderfully creative projects that you can take home. You’ll choose a project from our rotating menu and we’ll guide you through the creation process. Projects can take anywhere from 5-20 minutes. \n\nIncluded with General Admission\nLast call at 3:15 pm\n\n\nFor more information: Kohl’s Design It! Lab
URL:https://discoveryworld.org/calendar-of-events/kohls-design-it-lab-open-8/2026-07-26/
ATTACH;FMTTYPE=image/jpeg:https://discoveryworld.org/wp-content/uploads/2022/08/KDI2_1920x960-scaled.jpg
END:VEVENT
BEGIN:VEVENT
DTSTART;TZID=America/Chicago:20260801T090000
DTEND;TZID=America/Chicago:20260801T153000
DTSTAMP:20260419T112743
CREATED:20230425T141113Z
LAST-MODIFIED:20260417T153022Z
UID:19431-1785574800-1785598200@discoveryworld.org
SUMMARY:Kohl's Design It! Lab Open
DESCRIPTION:Saturdays & Sundays\n9:00 am – 3:30 pm \n\nBring the whole family to the Kohl’s Design It! Lab to make wonderfully creative projects that you can take home. You’ll choose a project from our rotating menu and we’ll guide you through the creation process. Projects can take anywhere from 5-20 minutes. \n\nIncluded with General Admission\nLast call at 3:15 pm\n\n\nFor more information: Kohl’s Design It! Lab
URL:https://discoveryworld.org/calendar-of-events/kohls-design-it-lab-open-8/2026-08-01/
ATTACH;FMTTYPE=image/jpeg:https://discoveryworld.org/wp-content/uploads/2022/08/KDI2_1920x960-scaled.jpg
END:VEVENT
BEGIN:VEVENT
DTSTART;TZID=America/Chicago:20260802T090000
DTEND;TZID=America/Chicago:20260802T153000
DTSTAMP:20260419T112743
CREATED:20230425T141113Z
LAST-MODIFIED:20260417T153022Z
UID:19432-1785661200-1785684600@discoveryworld.org
SUMMARY:Kohl's Design It! Lab Open
DESCRIPTION:Saturdays & Sundays\n9:00 am – 3:30 pm \n\nBring the whole family to the Kohl’s Design It! Lab to make wonderfully creative projects that you can take home. You’ll choose a project from our rotating menu and we’ll guide you through the creation process. Projects can take anywhere from 5-20 minutes. \n\nIncluded with General Admission\nLast call at 3:15 pm\n\n\nFor more information: Kohl’s Design It! Lab
URL:https://discoveryworld.org/calendar-of-events/kohls-design-it-lab-open-8/2026-08-02/
ATTACH;FMTTYPE=image/jpeg:https://discoveryworld.org/wp-content/uploads/2022/08/KDI2_1920x960-scaled.jpg
END:VEVENT
BEGIN:VEVENT
DTSTART;TZID=America/Chicago:20260808T090000
DTEND;TZID=America/Chicago:20260808T153000
DTSTAMP:20260419T112743
CREATED:20230425T141113Z
LAST-MODIFIED:20260417T153022Z
UID:19433-1786179600-1786203000@discoveryworld.org
SUMMARY:Kohl's Design It! Lab Open
DESCRIPTION:Saturdays & Sundays\n9:00 am – 3:30 pm \n\nBring the whole family to the Kohl’s Design It! Lab to make wonderfully creative projects that you can take home. You’ll choose a project from our rotating menu and we’ll guide you through the creation process. Projects can take anywhere from 5-20 minutes. \n\nIncluded with General Admission\nLast call at 3:15 pm\n\n\nFor more information: Kohl’s Design It! Lab
URL:https://discoveryworld.org/calendar-of-events/kohls-design-it-lab-open-8/2026-08-08/
ATTACH;FMTTYPE=image/jpeg:https://discoveryworld.org/wp-content/uploads/2022/08/KDI2_1920x960-scaled.jpg
END:VEVENT
BEGIN:VEVENT
DTSTART;TZID=America/Chicago:20260809T090000
DTEND;TZID=America/Chicago:20260809T153000
DTSTAMP:20260419T112743
CREATED:20230425T141113Z
LAST-MODIFIED:20260417T153022Z
UID:19434-1786266000-1786289400@discoveryworld.org
SUMMARY:Kohl's Design It! Lab Open
DESCRIPTION:Saturdays & Sundays\n9:00 am – 3:30 pm \n\nBring the whole family to the Kohl’s Design It! Lab to make wonderfully creative projects that you can take home. You’ll choose a project from our rotating menu and we’ll guide you through the creation process. Projects can take anywhere from 5-20 minutes. \n\nIncluded with General Admission\nLast call at 3:15 pm\n\n\nFor more information: Kohl’s Design It! Lab
URL:https://discoveryworld.org/calendar-of-events/kohls-design-it-lab-open-8/2026-08-09/
ATTACH;FMTTYPE=image/jpeg:https://discoveryworld.org/wp-content/uploads/2022/08/KDI2_1920x960-scaled.jpg
END:VEVENT
END:VCALENDAR