BEGIN:VCALENDAR
VERSION:2.0
PRODID:-//Discovery World - ECPv6.15.20//NONSGML v1.0//EN
CALSCALE:GREGORIAN
METHOD:PUBLISH
X-WR-CALNAME:Discovery World
X-ORIGINAL-URL:https://discoveryworld.org
X-WR-CALDESC:Events for Discovery World
REFRESH-INTERVAL;VALUE=DURATION:PT1H
X-Robots-Tag:noindex
X-PUBLISHED-TTL:PT1H
BEGIN:VTIMEZONE
TZID:America/Chicago
BEGIN:DAYLIGHT
TZOFFSETFROM:-0600
TZOFFSETTO:-0500
TZNAME:CDT
DTSTART:20240310T080000
END:DAYLIGHT
BEGIN:STANDARD
TZOFFSETFROM:-0500
TZOFFSETTO:-0600
TZNAME:CST
DTSTART:20241103T070000
END:STANDARD
BEGIN:DAYLIGHT
TZOFFSETFROM:-0600
TZOFFSETTO:-0500
TZNAME:CDT
DTSTART:20250309T080000
END:DAYLIGHT
BEGIN:STANDARD
TZOFFSETFROM:-0500
TZOFFSETTO:-0600
TZNAME:CST
DTSTART:20251102T070000
END:STANDARD
BEGIN:DAYLIGHT
TZOFFSETFROM:-0600
TZOFFSETTO:-0500
TZNAME:CDT
DTSTART:20260308T080000
END:DAYLIGHT
BEGIN:STANDARD
TZOFFSETFROM:-0500
TZOFFSETTO:-0600
TZNAME:CST
DTSTART:20261101T070000
END:STANDARD
END:VTIMEZONE
BEGIN:VEVENT
DTSTART;TZID=America/Chicago:20250221T110000
DTEND;TZID=America/Chicago:20250221T113000
DTSTAMP:20260425T060715
CREATED:20250218T163740Z
LAST-MODIFIED:20250218T163831Z
UID:17749-1740135600-1740137400@discoveryworld.org
SUMMARY:Animal Encounters
DESCRIPTION:Every Friday\, Saturday and Sunday\n11:00 am*\n* Starting Saturday (2/22) Animal Encounters will take place at 10:00 am\, 11:00 am\, and 12:00 pm.\n\nTurtles and snakes are some of the most fascinating creatures on the planet. Join our team for an adventure in our Great Lakes Future exhibit as you meet the animal ambassadors that call Discovery World home and gain a better understanding of our friendly animals.\n\nExplore our exhibit here: Great Lakes Future 
URL:https://discoveryworld.org/calendar-of-events/animal-encounters-10/
END:VEVENT
END:VCALENDAR