BEGIN:VCALENDAR
VERSION:2.0
PRODID:-//Discovery World - ECPv6.15.20//NONSGML v1.0//EN
CALSCALE:GREGORIAN
METHOD:PUBLISH
X-WR-CALNAME:Discovery World
X-ORIGINAL-URL:https://discoveryworld.org
X-WR-CALDESC:Events for Discovery World
REFRESH-INTERVAL;VALUE=DURATION:PT1H
X-Robots-Tag:noindex
X-PUBLISHED-TTL:PT1H
BEGIN:VTIMEZONE
TZID:America/Chicago
BEGIN:DAYLIGHT
TZOFFSETFROM:-0600
TZOFFSETTO:-0500
TZNAME:CDT
DTSTART:20230312T080000
END:DAYLIGHT
BEGIN:STANDARD
TZOFFSETFROM:-0500
TZOFFSETTO:-0600
TZNAME:CST
DTSTART:20231105T070000
END:STANDARD
BEGIN:DAYLIGHT
TZOFFSETFROM:-0600
TZOFFSETTO:-0500
TZNAME:CDT
DTSTART:20240310T080000
END:DAYLIGHT
BEGIN:STANDARD
TZOFFSETFROM:-0500
TZOFFSETTO:-0600
TZNAME:CST
DTSTART:20241103T070000
END:STANDARD
BEGIN:DAYLIGHT
TZOFFSETFROM:-0600
TZOFFSETTO:-0500
TZNAME:CDT
DTSTART:20250309T080000
END:DAYLIGHT
BEGIN:STANDARD
TZOFFSETFROM:-0500
TZOFFSETTO:-0600
TZNAME:CST
DTSTART:20251102T070000
END:STANDARD
END:VTIMEZONE
BEGIN:VEVENT
DTSTART;TZID=America/Chicago:20240317T110000
DTEND;TZID=America/Chicago:20240317T113000
DTSTAMP:20260423T130743
CREATED:20240208T155502Z
LAST-MODIFIED:20240212T201243Z
UID:16280-1710673200-1710675000@discoveryworld.org
SUMMARY:Mermaid Echo
DESCRIPTION:Monthly – Select Sundays\n11:00 am – 11:30 am \nMermaid Echo is back at Discovery World! Mermaid Echo connects kids with aquatic ecology in a creative way. Enjoy a spectacular performance! Watch Echo swim with underwater friends while you learn about freshwater and the creatures that call the water home. \nShows at 11:00 am – 11:30 am and 12:30 pm – 1:00 pm \nImportant Notes: \n\nIncluded with General Admission\, but please note that space per performance is extremely limited\, and all of Mermaid Echo’s performances are first-come\, first-served.\n\nLearn more about Echo: HERE
URL:https://discoveryworld.org/calendar-of-events/mermaid-echo/
END:VEVENT
BEGIN:VEVENT
DTSTART;TZID=America/Chicago:20240317T123000
DTEND;TZID=America/Chicago:20240317T130000
DTSTAMP:20260423T130743
CREATED:20240208T155925Z
LAST-MODIFIED:20240304T213343Z
UID:16287-1710678600-1710680400@discoveryworld.org
SUMMARY:Mermaid Echo
DESCRIPTION:Monthly – Select Sundays\n12:30 pm – 1:00 pm \nMermaid Echo is back at Discovery World! Mermaid Echo connects kids with aquatic ecology in a creative way. Enjoy a spectacular performance! Watch Echo swim with underwater friends while you learn about freshwater and the creatures that call the water home. \nShows at 11:00 am – 11:30 am and 12:30 pm – 1:00 pm \nImportant Notes: \n\nIncluded with General Admission\, but please note that space per performance is extremely limited\, and all of Mermaid Echo’s performances are first-come\, first-served.\n\nLearn more about Echo: HERE
URL:https://discoveryworld.org/calendar-of-events/mermaid-echo-2/2024-03-17/
END:VEVENT
END:VCALENDAR